BEGIN:VCALENDAR
VERSION:2.0
PRODID:-//College of The Albemarle - ECPv6.15.20//NONSGML v1.0//EN
CALSCALE:GREGORIAN
METHOD:PUBLISH
X-ORIGINAL-URL:https://www.albemarle.edu
X-WR-CALDESC:Events for College of The Albemarle
REFRESH-INTERVAL;VALUE=DURATION:PT1H
X-Robots-Tag:noindex
X-PUBLISHED-TTL:PT1H
BEGIN:VTIMEZONE
TZID:America/New_York
BEGIN:DAYLIGHT
TZOFFSETFROM:-0500
TZOFFSETTO:-0400
TZNAME:EDT
DTSTART:20250309T070000
END:DAYLIGHT
BEGIN:STANDARD
TZOFFSETFROM:-0400
TZOFFSETTO:-0500
TZNAME:EST
DTSTART:20251102T060000
END:STANDARD
BEGIN:DAYLIGHT
TZOFFSETFROM:-0500
TZOFFSETTO:-0400
TZNAME:EDT
DTSTART:20260308T070000
END:DAYLIGHT
BEGIN:STANDARD
TZOFFSETFROM:-0400
TZOFFSETTO:-0500
TZNAME:EST
DTSTART:20261101T060000
END:STANDARD
BEGIN:DAYLIGHT
TZOFFSETFROM:-0500
TZOFFSETTO:-0400
TZNAME:EDT
DTSTART:20270314T070000
END:DAYLIGHT
BEGIN:STANDARD
TZOFFSETFROM:-0400
TZOFFSETTO:-0500
TZNAME:EST
DTSTART:20271107T060000
END:STANDARD
END:VTIMEZONE
BEGIN:VEVENT
DTSTART;TZID=America/New_York:20260513T150000
DTEND;TZID=America/New_York:20260513T150000
DTSTAMP:20260420T050507
CREATED:20260120T140637Z
LAST-MODIFIED:20260120T140637Z
UID:10000688-1778684400-1778684400@www.albemarle.edu
SUMMARY:COA - Elizabeth City Commencement Ceremony
DESCRIPTION:
URL:https://www.albemarle.edu/calendar/coa-elizabeth-city-commencement-ceremony/
LOCATION:COA – Elizabeth City: Performing Arts Center\, 1208 N Road St\, Elizabeth City\, NC\, 27909\, United States
CATEGORIES:Academic,Community Events,Student Events
GEO:36.324982;-76.2202226
X-APPLE-STRUCTURED-LOCATION;VALUE=URI;X-ADDRESS=COA – Elizabeth City: Performing Arts Center 1208 N Road St Elizabeth City NC 27909 United States;X-APPLE-RADIUS=500;X-TITLE=1208 N Road St:geo:-76.2202226,36.324982
END:VEVENT
BEGIN:VEVENT
DTSTART;TZID=America/New_York:20260513T180000
DTEND;TZID=America/New_York:20260513T180000
DTSTAMP:20260420T050507
CREATED:20260120T140708Z
LAST-MODIFIED:20260120T140708Z
UID:10000689-1778695200-1778695200@www.albemarle.edu
SUMMARY:COA - Elizabeth City Commencement Ceremony
DESCRIPTION:
URL:https://www.albemarle.edu/calendar/coa-elizabeth-city-commencement-ceremony-2/
LOCATION:COA – Elizabeth City: Performing Arts Center\, 1208 N Road St\, Elizabeth City\, NC\, 27909\, United States
CATEGORIES:Academic,Community Events,Student Events
GEO:36.324982;-76.2202226
X-APPLE-STRUCTURED-LOCATION;VALUE=URI;X-ADDRESS=COA – Elizabeth City: Performing Arts Center 1208 N Road St Elizabeth City NC 27909 United States;X-APPLE-RADIUS=500;X-TITLE=1208 N Road St:geo:-76.2202226,36.324982
END:VEVENT
BEGIN:VEVENT
DTSTART;TZID=America/New_York:20260728T170000
DTEND;TZID=America/New_York:20260728T170000
DTSTAMP:20260420T050507
CREATED:20260120T140847Z
LAST-MODIFIED:20260120T140847Z
UID:10000691-1785258000-1785258000@www.albemarle.edu
SUMMARY:Summer Commencement Ceremony
DESCRIPTION:
URL:https://www.albemarle.edu/calendar/summer-commencement-ceremony/
LOCATION:COA – Elizabeth City: Performing Arts Center\, 1208 N Road St\, Elizabeth City\, NC\, 27909\, United States
CATEGORIES:Academic,Community Events,Student Events
GEO:36.324982;-76.2202226
X-APPLE-STRUCTURED-LOCATION;VALUE=URI;X-ADDRESS=COA – Elizabeth City: Performing Arts Center 1208 N Road St Elizabeth City NC 27909 United States;X-APPLE-RADIUS=500;X-TITLE=1208 N Road St:geo:-76.2202226,36.324982
END:VEVENT
END:VCALENDAR